BEGIN:VCALENDAR
VERSION:2.0
PRODID:-//KFC De Kempen - ECPv6.14.2//NONSGML v1.0//EN
CALSCALE:GREGORIAN
METHOD:PUBLISH
X-WR-CALNAME:KFC De Kempen
X-ORIGINAL-URL:https://kfcdekempen.be
X-WR-CALDESC:Events voor KFC De Kempen
REFRESH-INTERVAL;VALUE=DURATION:PT1H
X-Robots-Tag:noindex
X-PUBLISHED-TTL:PT1H
BEGIN:VTIMEZONE
TZID:UTC
BEGIN:STANDARD
TZOFFSETFROM:+0000
TZOFFSETTO:+0000
TZNAME:UTC
DTSTART:20240101T000000
END:STANDARD
END:VTIMEZONE
BEGIN:VEVENT
DTSTART;TZID=UTC:20241214T080000
DTEND;TZID=UTC:20241214T170000
DTSTAMP:20260420T033721
CREATED:20240921T124723Z
LAST-MODIFIED:20241209T201118Z
UID:6942-1734163200-1734195600@kfcdekempen.be
SUMMARY:Eindejaarsshop 2024
DESCRIPTION:Het is niet meer mogelijk te bestellen\n  \nHet einde van het jaar is weer in zicht. Dit betekent opnieuw de start van onze Eindejaarsshop. \nKoop je wijn en ijs(taarten) voor de feestdagen via onze webshop en steun zo onze club. \nBestellen kan t.e.m. zondag 8 december 23u59. \nDit jaar zullen wij ook gratis aan huis leveren bij iedereen die woonachtig is in Lichtaart en Tielen.\nAan andere kopers vragen wij om je bestelling op te halen in ons wedstrijdcomplex in Tielen (Prijstraat 66\, 2460 Tielen). \nHet is niet meer mogelijk te bestellen\n  \nOphalen kantine\n• Zaterdag 14 december tussen 10h00 en 14h00\n• Zondag 15 december tussen 10h00 en 12h00 \nLeveren aan huis ( enkel Lichtaart / Tielen )\nZaterdag 14 december tussen 9h00 u en 12h00 \nFAQ\nKan ik ook cash betalen?\nDat kan. Gelieve je bestelling door te geven via stephenstappaerts@gmail.com of 0485/57.33.60. Bij ophaling/levering is het mogelijk om dit cash te betalen. \nLeveren jullie mijn bestelling ook aan huis?\nJa\, maar dit is enkel geldig voor adressen in Lichtaart en Tielen. Andere kopers vragen we om hun bestelling op te halen op zaterdag 14 of zondag 15 december. \nVoor de organisatie van deze Eindejaars Shop werken we samen met volgende partners:\nIjstaarten: Ijsboerke\nWijn: Wijnen Jacobs \nAlvast bedankt voor jullie steun! \nBestuur KFC De Kempen
URL:https://kfcdekempen.be/event/eindejaarsshop-2024/
LOCATION:Wedstrijdcomplex\, Prijstraat 66\, Tielen\, 2460\, Belgium
CATEGORIES:Club evenementen
ATTACH;FMTTYPE=image/jpeg:https://kfcdekempen.be/wp-content/uploads/2024/09/Eindejaarsshop-2024.jpg
END:VEVENT
END:VCALENDAR