BEGIN:VCALENDAR
VERSION:2.0
PRODID:-//KFC De Kempen - ECPv6.14.2//NONSGML v1.0//EN
CALSCALE:GREGORIAN
METHOD:PUBLISH
X-ORIGINAL-URL:https://kfcdekempen.be
X-WR-CALDESC:Events voor KFC De Kempen
REFRESH-INTERVAL;VALUE=DURATION:PT1H
X-Robots-Tag:noindex
X-PUBLISHED-TTL:PT1H
BEGIN:VTIMEZONE
TZID:UTC
BEGIN:STANDARD
TZOFFSETFROM:+0000
TZOFFSETTO:+0000
TZNAME:UTC
DTSTART:20250101T000000
END:STANDARD
END:VTIMEZONE
BEGIN:VEVENT
DTSTART;TZID=UTC:20250510T140000
DTEND;TZID=UTC:20250510T235900
DTSTAMP:20260419T210508
CREATED:20250410T140036Z
LAST-MODIFIED:20250426T140750Z
UID:7637-1746885600-1746921540@kfcdekempen.be
SUMMARY:Afsluitfeest 2025
DESCRIPTION:Op zaterdag 10 mei organiseert onze club haar jaarlijks afsluitfeest. \nEen gezellig event om allemaal samen dit mooie seizoen af te sluiten. Dit doen we met onze allereerste PENALTYCUP en met nog tal van randanimatie. \nFrieten en snacks kan je vanaf nu bestellen via deze link.\nSchrijf in voor onze Penaltycup via deze link. \nVerloop van het eindfeest: \n\n13u30 Samenkomst van de ploegen penaltycup\n14u00 Start eindfeest\n14u00 Start penaltycup tot 16h00\n16u00 Start verkoop fritten en snacks tot 19h00\n16h30 Uitreiking gouden schoen en aansluitend hieraan de trekking winnaar voetbaltruitje gouden schoen (A-kern\, B-kern\, Dames)\n17h30 start show clown goochelaar\n+/- 18h30 DJ\n\nBESTEL NU JE FRIETEN EN SNACKS: klik hier.\nSCHRIJF IN VOOR PENALTYCUP: Klik hier. \n  \n  \n 
URL:https://kfcdekempen.be/event/afsluitfeest_2025/
LOCATION:Wedstrijdcomplex\, Prijstraat 66\, Tielen\, 2460\, Belgium
CATEGORIES:Club evenementen
ATTACH;FMTTYPE=image/png:https://kfcdekempen.be/wp-content/uploads/2025/05/Thumbnails_Event_Activiteiten-1.png
END:VEVENT
END:VCALENDAR