BEGIN:VCALENDAR
VERSION:2.0
PRODID:-//KFC De Kempen - ECPv6.14.2//NONSGML v1.0//EN
CALSCALE:GREGORIAN
METHOD:PUBLISH
X-ORIGINAL-URL:https://kfcdekempen.be
X-WR-CALDESC:Events voor KFC De Kempen
REFRESH-INTERVAL;VALUE=DURATION:PT1H
X-Robots-Tag:noindex
X-PUBLISHED-TTL:PT1H
BEGIN:VTIMEZONE
TZID:UTC
BEGIN:STANDARD
TZOFFSETFROM:+0000
TZOFFSETTO:+0000
TZNAME:UTC
DTSTART:20260101T000000
END:STANDARD
END:VTIMEZONE
BEGIN:VEVENT
DTSTART;VALUE=DATE:20260509
DTEND;VALUE=DATE:20260510
DTSTAMP:20260422T122944
CREATED:20250818T190446Z
LAST-MODIFIED:20250819T192259Z
UID:7943-1778284800-1778371199@kfcdekempen.be
SUMMARY:Afsluitfeest 2026
DESCRIPTION:Op zaterdag 9 mei organiseert onze club haar jaarlijks afsluitfeest. \nBINNENKORT MEER INFO \n  \n  \n 
URL:https://kfcdekempen.be/event/afsluitfeest_2026/
LOCATION:Wedstrijdcomplex\, Prijstraat 66\, Tielen\, 2460\, Belgium
CATEGORIES:Club evenementen
ATTACH;FMTTYPE=image/jpeg:https://kfcdekempen.be/wp-content/uploads/2025/08/Afsluitfeest-2026-1.jpg
END:VEVENT
END:VCALENDAR