BEGIN:VCALENDAR
VERSION:2.0
PRODID:-//KFC De Kempen - ECPv6.14.2//NONSGML v1.0//EN
CALSCALE:GREGORIAN
METHOD:PUBLISH
X-WR-CALNAME:KFC De Kempen
X-ORIGINAL-URL:https://kfcdekempen.be
X-WR-CALDESC:Events voor KFC De Kempen
REFRESH-INTERVAL;VALUE=DURATION:PT1H
X-Robots-Tag:noindex
X-PUBLISHED-TTL:PT1H
BEGIN:VTIMEZONE
TZID:UTC
BEGIN:STANDARD
TZOFFSETFROM:+0000
TZOFFSETTO:+0000
TZNAME:UTC
DTSTART:20250101T000000
END:STANDARD
END:VTIMEZONE
BEGIN:VEVENT
DTSTART;TZID=UTC:20250906T180000
DTEND;TZID=UTC:20250906T233000
DTSTAMP:20260421T111210
CREATED:20250726T091418Z
LAST-MODIFIED:20250906T112517Z
UID:5815-1757181600-1757201400@kfcdekempen.be
SUMMARY:KFC De Kempen - Schoonbeek-Beverst
DESCRIPTION:KFC De Kempen – Schoonbeek-Beverst\nITALIAANSE AVOND \nOp de menu\n2 soorten pasta\n3 sauzen\nLasagne & veggie lasagne\nBrood \nStart\n18u \nWedstrijdbal\nMiracle Logistic \nSchrijf nu in
URL:https://kfcdekempen.be/event/kfc-de-kempen-schoonbeek-beverst/
LOCATION:Business Seats\, Sportcentrum Tielenheide\, 2de verdieping\, Prijstraat 68\, Tielen\, 2460\, Belgium
CATEGORIES:Kempen Diner
ATTACH;FMTTYPE=image/jpeg:https://kfcdekempen.be/wp-content/uploads/2024/07/Schoonbeek-Beverst-1.jpg
END:VEVENT
END:VCALENDAR