BEGIN:VCALENDAR
VERSION:2.0
PRODID:-//KFC De Kempen - ECPv6.14.2//NONSGML v1.0//EN
CALSCALE:GREGORIAN
METHOD:PUBLISH
X-WR-CALNAME:KFC De Kempen
X-ORIGINAL-URL:https://kfcdekempen.be
X-WR-CALDESC:Events voor KFC De Kempen
REFRESH-INTERVAL;VALUE=DURATION:PT1H
X-Robots-Tag:noindex
X-PUBLISHED-TTL:PT1H
BEGIN:VTIMEZONE
TZID:UTC
BEGIN:STANDARD
TZOFFSETFROM:+0000
TZOFFSETTO:+0000
TZNAME:UTC
DTSTART:20240101T000000
END:STANDARD
END:VTIMEZONE
BEGIN:VEVENT
DTSTART;TZID=UTC:20241102T170000
DTEND;TZID=UTC:20241102T233000
DTSTAMP:20260422T005907
CREATED:20240908T091023Z
LAST-MODIFIED:20240908T091111Z
UID:6884-1730566800-1730590200@kfcdekempen.be
SUMMARY:KFC De Kempen - S.C. City Pirates Antwerpen
DESCRIPTION:KFC De Kempen – S.C. City Pirates Antwerpen\nReserveren\nKempen Menu\nVoorgerecht\nTrio van zalm \nSoep\nWortelcrèmesoep \nHoofdgerecht\nWildragout\nGamba’s à la plancha\nSeizoensgroenten\nKnolselderpuree | frieten \nDessert\nDuo van tiramisu \nWedstrijdbal \nOnbekend \nInteresse in om deze wedstrijdbal te schenken. Neem dan contact op met Steven Lemmens (steven.lemmens@securelogisticservices.be\n0470/55.09.19)
URL:https://kfcdekempen.be/event/kfc-de-kempen-s-c-city-pirates-antwerpen/
LOCATION:Business Seats\, Sportcentrum Tielenheide\, 2de verdieping\, Prijstraat 68\, Tielen\, 2460\, Belgium
CATEGORIES:Kempen Diner
ATTACH;FMTTYPE=image/jpeg:https://kfcdekempen.be/wp-content/uploads/2024/09/City-Pirates.jpg
END:VEVENT
BEGIN:VEVENT
DTSTART;TZID=UTC:20241130T170000
DTEND;TZID=UTC:20241130T233000
DTSTAMP:20260422T005907
CREATED:20240908T092322Z
LAST-MODIFIED:20241126T203033Z
UID:6891-1732986000-1733009400@kfcdekempen.be
SUMMARY:KFC De Kempen - Sportief Rotselaar
DESCRIPTION:KFC De Kempen – Sportief Rotselaar\nReserveren\nKempen Menu\nVoorgerecht\nRode biet carpacia met gerookte makreel \nSoep\nBospaddenstoelensoep \nHoofdgerecht\nKalkoenfilet met fruit en/of champignonsaus\nZeebaars op vel gebakken\nSeizoensgroenten\nKroketten | Krokinnes \nDessert\nCrème brûlée \nWedstrijdbal \nOnbekend \nInteresse in om deze wedstrijdbal te schenken. Neem dan contact op met Steven Lemmens (steven.lemmens@securelogisticservices.be\n0470/55.09.19)
URL:https://kfcdekempen.be/event/kfc-de-kempen-sportief-rotselaar/
LOCATION:Business Seats\, Sportcentrum Tielenheide\, 2de verdieping\, Prijstraat 68\, Tielen\, 2460\, Belgium
CATEGORIES:Kempen Diner
ATTACH;FMTTYPE=image/jpeg:https://kfcdekempen.be/wp-content/uploads/2024/09/Sportief-Rotselaar-.jpg
END:VEVENT
BEGIN:VEVENT
DTSTART;TZID=UTC:20241214T170000
DTEND;TZID=UTC:20241214T233000
DTSTAMP:20260422T005907
CREATED:20240908T093119Z
LAST-MODIFIED:20240908T093306Z
UID:6902-1734195600-1734219000@kfcdekempen.be
SUMMARY:KFC De Kempen - KFC Bevel
DESCRIPTION:KFC De Kempen – KFC Bevel\nReserveren\nKempen Menu\nVoorgerecht\nDuo carpaccio van hert en eend \nSoep\nBloemkoolcremesoep \nHoofdgerecht\nVarkenswangetjes met BAST bier\nScampi in hemels-sausje\nSeizoensgroenten\nVerse tagliatelle | frieten \nDessert\nEindejaarsverrassing \nWedstrijdbal \nOnbekend \nInteresse in om deze wedstrijdbal te schenken. Neem dan contact op met Steven Lemmens (steven.lemmens@securelogisticservices.be\n0470/55.09.19)
URL:https://kfcdekempen.be/event/kfc-de-kempen-kfc-bevel/
LOCATION:Business Seats\, Sportcentrum Tielenheide\, 2de verdieping\, Prijstraat 68\, Tielen\, 2460\, Belgium
CATEGORIES:Kempen Diner
ATTACH;FMTTYPE=image/jpeg:https://kfcdekempen.be/wp-content/uploads/2024/09/KFC-Bevel-.jpg
END:VEVENT
BEGIN:VEVENT
DTSTART;TZID=UTC:20250118T170000
DTEND;TZID=UTC:20250118T233000
DTSTAMP:20260422T005907
CREATED:20241219T184718Z
LAST-MODIFIED:20250111T161219Z
UID:7285-1737219600-1737243000@kfcdekempen.be
SUMMARY:KFC De Kempen - Achel VV
DESCRIPTION:KFC De Kempen – Achel VV\nRESERVEREN\nKempen Menu\nVoorgerecht\nRavioli van kreeft \nSoep\nKreeftenbisque \nHoofdgerecht\nChateaubriand met peper en champignonsaus\nSchelvishaasje\nSeizoensgroenten\nKroketten | Butternutpuree \nDessert\nMascarpone dessert \nWedstrijdbal\n\nOnbekend \nInteresse in om deze wedstrijdbal te schenken. Neem dan contact op met Steven Lemmens (steven.lemmens@securelogisticservices.be\n0470/55.09.19)
URL:https://kfcdekempen.be/event/kfc-de-kempen-achel-vv/
LOCATION:Business Seats\, Sportcentrum Tielenheide\, 2de verdieping\, Prijstraat 68\, Tielen\, 2460\, Belgium
CATEGORIES:Kempen Diner
ATTACH;FMTTYPE=image/jpeg:https://kfcdekempen.be/wp-content/uploads/2024/12/K-Achel-VV.jpg
END:VEVENT
BEGIN:VEVENT
DTSTART;TZID=UTC:20250201T170000
DTEND;TZID=UTC:20250201T233000
DTSTAMP:20260422T005907
CREATED:20250111T161030Z
LAST-MODIFIED:20250111T161030Z
UID:7355-1738429200-1738452600@kfcdekempen.be
SUMMARY:KFC De Kempen - Zepperen-Brustem
DESCRIPTION:KFC De Kempen – Zepperen-Brustem\nRESERVEREN\nKempen Menu\nVoorgerecht\nDuo van kaas- en garnaalkroket \nSoep\nWitloofroomsoepje \nHoofdgerecht\nHam van het spit\nLangoustines\nSeizoensgroenten\nFrieten | Knolselderpuree \nDessert\nOreo verrassing \nWedstrijdbal\n\nOnbekend \nInteresse om deze wedstrijdbal te schenken? Neem dan contact op met Steven Lemmens (steven.lemmens@securelogisticservices.be\n0470/55.09.19)
URL:https://kfcdekempen.be/event/kfc-de-kempen-zepperen-brustem/
LOCATION:Business Seats\, Sportcentrum Tielenheide\, 2de verdieping\, Prijstraat 68\, Tielen\, 2460\, Belgium
CATEGORIES:Kempen Diner
ATTACH;FMTTYPE=image/jpeg:https://kfcdekempen.be/wp-content/uploads/2025/01/Zepperen-Brustem.jpg
END:VEVENT
BEGIN:VEVENT
DTSTART;TZID=UTC:20250215T170000
DTEND;TZID=UTC:20250215T233000
DTSTAMP:20260422T005907
CREATED:20250111T162954Z
LAST-MODIFIED:20250111T162954Z
UID:7361-1739638800-1739662200@kfcdekempen.be
SUMMARY:KFC De Kempen - KFC Nijlen
DESCRIPTION:KFC De Kempen – KFC Nijlen\nRESERVEREN\nKempen Menu\nVoorgerecht\nRissotto met scampi \nSoep\nVergeten groentesoep \nHoofdgerecht\nHerteragout\nSkreifilet\nSeizoensgroenten\nKroketten \nDessert\nLiefdesdessert \nWedstrijdbal \nOnbekend \nInteresse om deze wedstrijdbal te schenken? Neem dan contact op met Steven Lemmens (steven.lemmens@securelogisticservices.be\n0470/55.09.19)
URL:https://kfcdekempen.be/event/kfc-de-kempen-kfc-nijlen/
LOCATION:Business Seats\, Sportcentrum Tielenheide\, 2de verdieping\, Prijstraat 68\, Tielen\, 2460\, Belgium
CATEGORIES:Kempen Diner
ATTACH;FMTTYPE=image/jpeg:https://kfcdekempen.be/wp-content/uploads/2025/01/KFC-Nijlen.jpg
END:VEVENT
BEGIN:VEVENT
DTSTART;TZID=UTC:20250308T170000
DTEND;TZID=UTC:20250308T233000
DTSTAMP:20260422T005907
CREATED:20250111T163453Z
LAST-MODIFIED:20250307T182943Z
UID:7364-1741453200-1741476600@kfcdekempen.be
SUMMARY:KFC De Kempen - SK Londerzeel
DESCRIPTION:KFC De Kempen – SK Londerzeel\nRESERVEREN\nKempen Menu\nVoorgerecht\nPasta vongole \nSoep\nWaterkerssoep \nHoofdgerecht\nPaella Valencia\nLasagne met rundsbolognese\nLasagne met zalm \nDessert\nBaileysmousse \nWedstrijdbal\n\nOnbekend \nInteresse om deze wedstrijdbal te schenken? Neem dan contact op met Steven Lemmens (steven.lemmens@securelogisticservices.be\n0470/55.09.19)
URL:https://kfcdekempen.be/event/kfc-de-kempen-sk-londerzeel/
LOCATION:Business Seats\, Sportcentrum Tielenheide\, 2de verdieping\, Prijstraat 68\, Tielen\, 2460\, Belgium
CATEGORIES:Kempen Diner
ATTACH;FMTTYPE=image/jpeg:https://kfcdekempen.be/wp-content/uploads/2025/01/SK-Londerzeel.jpg
END:VEVENT
BEGIN:VEVENT
DTSTART;TZID=UTC:20250322T170000
DTEND;TZID=UTC:20250322T233000
DTSTAMP:20260422T005907
CREATED:20250111T164815Z
LAST-MODIFIED:20250111T164815Z
UID:7367-1742662800-1742686200@kfcdekempen.be
SUMMARY:KFC De Kempen - KAC Betekom
DESCRIPTION:KFC De Kempen – KAC Betekom\nRESERVEREN\nKempen Menu\nVoorgerecht\nCarpaccio van zalm \nSoep\nAspergesoepje \nHoofdgerecht\nSaltimbocca\nTongrolletjes met grijze garnalen\nSeizoensgroenten\nKroketjes | Gratin \nDessert\nLimoncello dessert \nWedstrijdbal\n\nOnbekend \nInteresse om deze wedstrijdbal te schenken? Neem dan contact op met Steven Lemmens (steven.lemmens@securelogisticservices.be\n0470/55.09.19)
URL:https://kfcdekempen.be/event/kfc-de-kempen-kac-betekom/
LOCATION:Business Seats\, Sportcentrum Tielenheide\, 2de verdieping\, Prijstraat 68\, Tielen\, 2460\, Belgium
CATEGORIES:Kempen Diner
ATTACH;FMTTYPE=image/jpeg:https://kfcdekempen.be/wp-content/uploads/2025/01/KAC-Betekom.jpg
END:VEVENT
BEGIN:VEVENT
DTSTART;TZID=UTC:20250427T123000
DTEND;TZID=UTC:20250427T233000
DTSTAMP:20260422T005907
CREATED:20250111T165713Z
LAST-MODIFIED:20250111T165713Z
UID:7373-1745757000-1745796600@kfcdekempen.be
SUMMARY:KFC De Kempen - SK Lommel B
DESCRIPTION:KFC De Kempen – SK Lommel B\nRESERVEREN\nKempen Menu\nVoorgerecht\nDuo van carpaccio en vitello \nSoep\nLentesoepje \nHoofdgerecht\nTomahawk met sausjes\nGegrilde tonijn\nFrieten | Pasta pesto \nDessert\nCrème brûlée \nWedstrijdbal\n\nOnbekend \nInteresse om deze wedstrijdbal te schenken? Neem dan contact op met Steven Lemmens (steven.lemmens@securelogisticservices.be\n0470/55.09.19)
URL:https://kfcdekempen.be/event/kfc-de-kempen-sk-lommel-b/
LOCATION:Business Seats\, Sportcentrum Tielenheide\, 2de verdieping\, Prijstraat 68\, Tielen\, 2460\, Belgium
CATEGORIES:Kempen Diner
ATTACH;FMTTYPE=image/jpeg:https://kfcdekempen.be/wp-content/uploads/2025/01/SK-Lommel.jpg
END:VEVENT
BEGIN:VEVENT
DTSTART;TZID=UTC:20250906T180000
DTEND;TZID=UTC:20250906T233000
DTSTAMP:20260422T005907
CREATED:20250726T091418Z
LAST-MODIFIED:20250906T112517Z
UID:5815-1757181600-1757201400@kfcdekempen.be
SUMMARY:KFC De Kempen - Schoonbeek-Beverst
DESCRIPTION:KFC De Kempen – Schoonbeek-Beverst\nITALIAANSE AVOND \nOp de menu\n2 soorten pasta\n3 sauzen\nLasagne & veggie lasagne\nBrood \nStart\n18u \nWedstrijdbal\nMiracle Logistic \nSchrijf nu in
URL:https://kfcdekempen.be/event/kfc-de-kempen-schoonbeek-beverst/
LOCATION:Business Seats\, Sportcentrum Tielenheide\, 2de verdieping\, Prijstraat 68\, Tielen\, 2460\, Belgium
CATEGORIES:Kempen Diner
ATTACH;FMTTYPE=image/jpeg:https://kfcdekempen.be/wp-content/uploads/2024/07/Schoonbeek-Beverst-1.jpg
END:VEVENT
BEGIN:VEVENT
DTSTART;TZID=UTC:20250913T170000
DTEND;TZID=UTC:20250913T233000
DTSTAMP:20260422T005907
CREATED:20250728T190442Z
LAST-MODIFIED:20250906T112524Z
UID:4624-1757782800-1757806200@kfcdekempen.be
SUMMARY:KFC De Kempen - KFC Zwarte Leeuw
DESCRIPTION:KFC De Kempen – KFC Zwarte Leeuw\nReserveren\nKempen Menu\nOntvangst met hapjes en drankjes: Cava\, fruitsap en andere standaard dranken incl. \nVoorgerecht\nWagyu kroketje met slaatje \nSoep\nWortelsoep \nHoofdgerecht in buffetvorm \n\nNoorse zalm\nIerse steak\nSeizoensgroenten\nSauzen\nFrieten – kroketten\n\nDessert (tijdens de rust om 20:15 uur)\nIjsbol Tiramisu \nWedstrijdbal\nOnbekend
URL:https://kfcdekempen.be/event/kfc-de-kempen-kfc-zwarte-leeuw/
LOCATION:Business Seats\, Sportcentrum Tielenheide\, 2de verdieping\, Prijstraat 68\, Tielen\, 2460\, Belgium
CATEGORIES:Kempen Diner
ATTACH;FMTTYPE=image/png:https://kfcdekempen.be/wp-content/uploads/2024/03/KFC-Zwarte-Leeuw.png
END:VEVENT
BEGIN:VEVENT
DTSTART;TZID=UTC:20251011T180000
DTEND;TZID=UTC:20251011T233000
DTSTAMP:20260422T005907
CREATED:20250906T113318Z
LAST-MODIFIED:20250906T113318Z
UID:7973-1760205600-1760225400@kfcdekempen.be
SUMMARY:KFC De Kempen - FC Turkse Rangers
DESCRIPTION:KFC De Kempen – FC Turkse Rangers\nBELGISCH BUFFET \nReserveren\nOp de menu\nBal in tomaat\nStoofvlees\nVidee\nWitloofrolletjes uit de oven\nFrieten en kroketten \nWedstrijdbal\nOnbekend
URL:https://kfcdekempen.be/event/kfc-de-kempen-fc-turkse-rangers/
LOCATION:Business Seats\, Sportcentrum Tielenheide\, 2de verdieping\, Prijstraat 68\, Tielen\, 2460\, Belgium
CATEGORIES:Kempen Diner
ATTACH;FMTTYPE=image/jpeg:https://kfcdekempen.be/wp-content/uploads/2025/09/Turkse-Rangers.jpg
END:VEVENT
BEGIN:VEVENT
DTSTART;TZID=UTC:20251101T170000
DTEND;TZID=UTC:20251101T233000
DTSTAMP:20260422T005907
CREATED:20250729T195613Z
LAST-MODIFIED:20250906T113936Z
UID:7842-1762016400-1762039800@kfcdekempen.be
SUMMARY:KFC De Kempen - Wezel Sport
DESCRIPTION:KFC De Kempen – Wezel Sport\nReserveren\nKempen Menu\nOntvangst met hapjes en drankjes: Cava\, fruitsap en andere standaard dranken incl. \nVoorgerecht\nGandaham tonato \nSoep\nPompoensoepje \nHoofdgerecht in buffetvorm \nVarkenswangetjes\nZeebaarsfilet\nSeizoensgroenten\nGratin – kroketten \nDessert (tijdens de rust om 20:15 uur)\nClassic pumpkin dessert \nWedstrijdbal\nOnbekend
URL:https://kfcdekempen.be/event/kfc-de-kempen-wezel-sport/
LOCATION:Business Seats\, Sportcentrum Tielenheide\, 2de verdieping\, Prijstraat 68\, Tielen\, 2460\, Belgium
CATEGORIES:Kempen Diner
ATTACH;FMTTYPE=image/png:https://kfcdekempen.be/wp-content/uploads/2025/07/Wezel-Sport-1.png
END:VEVENT
BEGIN:VEVENT
DTSTART;TZID=UTC:20251115T170000
DTEND;TZID=UTC:20251115T233000
DTSTAMP:20260422T005907
CREATED:20250708T091500Z
LAST-MODIFIED:20251106T181708Z
UID:6888-1763226000-1763249400@kfcdekempen.be
SUMMARY:KFC De Kempen - KFC Turnhout
DESCRIPTION:KFC De Kempen – KFC Turnhout\nVOLZET!\nAlle plaatsen zijn gereserveerd. Het is niet langer mogelijk om te komen dineren voorafgaand aan de match KFC De Kempen – KFC Turnhout. \nKempen Menu\nOntvangst met hapjes en drankjes: Cava\, fruitsap en andere standaard dranken incl. \nVoorgerecht\nHolsteinkroketje met slaatje \nSoep\nBospaddestoelensoep \nHoofdgerecht in buffetvorm \nWildragout en scampi\nSeizoensgroenten\nPasta – kroketten \nDessert (tijdens de rust om 20:15 uur)\nBaileysdessert \nWedstrijdbal\nOnbekend
URL:https://kfcdekempen.be/event/kfc-de-kempen-kfc-turnhout/
LOCATION:Business Seats\, Sportcentrum Tielenheide\, 2de verdieping\, Prijstraat 68\, Tielen\, 2460\, Belgium
CATEGORIES:Kempen Diner
ATTACH;FMTTYPE=image/png:https://kfcdekempen.be/wp-content/uploads/2024/03/KFC-Turnhout.png
END:VEVENT
BEGIN:VEVENT
DTSTART;TZID=UTC:20251122T180000
DTEND;TZID=UTC:20251122T233000
DTSTAMP:20260422T005907
CREATED:20250907T165823Z
LAST-MODIFIED:20251027T151021Z
UID:7985-1763834400-1763854200@kfcdekempen.be
SUMMARY:KFC De Kempen - KVC Wilrijk
DESCRIPTION:KFC De Kempen – KVC Wilrijk\nSTEAK MET FRIET AVOND \nReserveren\nWedstrijdbal\nOnbekend
URL:https://kfcdekempen.be/event/kfc-de-kempen-kvc-wilrijk/
LOCATION:Business Seats\, Sportcentrum Tielenheide\, 2de verdieping\, Prijstraat 68\, Tielen\, 2460\, Belgium
CATEGORIES:Kempen Diner
ATTACH;FMTTYPE=image/jpeg:https://kfcdekempen.be/wp-content/uploads/2025/09/KVC-Wilrijk.jpg
END:VEVENT
BEGIN:VEVENT
DTSTART;TZID=UTC:20251213T180000
DTEND;TZID=UTC:20251213T233000
DTSTAMP:20260422T005907
CREATED:20251112T221108Z
LAST-MODIFIED:20251128T164720Z
UID:8059-1765648800-1765668600@kfcdekempen.be
SUMMARY:KFC De Kempen - City Pirates
DESCRIPTION:KFC De Kempen – City Pirates\nWat komt er op je bord?  \nSamen met onze partner Solimani schotelen we jouw een bourgondisch buffet voor: \n\nVogelnest + tomatensaus\nFrikandel+ krieken\nKonijn\nRibbekes\nPuree\nBrood + appelmoes\n\nReserveren\nWedstrijdbal\nOnbekend
URL:https://kfcdekempen.be/event/kfc-de-kempen-city-pirates-2/
LOCATION:Business Seats\, Sportcentrum Tielenheide\, 2de verdieping\, Prijstraat 68\, Tielen\, 2460\, Belgium
CATEGORIES:Kempen Diner
ATTACH;FMTTYPE=image/jpeg:https://kfcdekempen.be/wp-content/uploads/2025/11/City-Pirates-1.jpg
END:VEVENT
BEGIN:VEVENT
DTSTART;TZID=UTC:20260131T170000
DTEND;TZID=UTC:20260131T223000
DTSTAMP:20260422T005907
CREATED:20240819T170008Z
LAST-MODIFIED:20251226T171447Z
UID:6809-1769878800-1769898600@kfcdekempen.be
SUMMARY:KFC De Kempen - ASV Geel
DESCRIPTION:KFC De Kempen – ASV Geel\nReserveren\nKempen Menu\nVoorgerecht\nWagyu kroketjes met slaatje \nSoep\nKippencrèmesoep \nHoofdgerecht\nWildstoofpotje\nZalmfilet op vel\nSeizoensgroenten\nKroketjes | Gratin \nDessert\nPanna cotta \nWedstrijdbal\nONBEKEND \nInteresse om deze wedstrijdbal te schenken? Neem dan contact op met Steven Lemmens (steven.lemmens@securelogisticservices.be\n0470/55.09.19)
URL:https://kfcdekempen.be/event/kfc-de-kempen-asv-geel/
LOCATION:Business Seats\, Sportcentrum Tielenheide\, 2de verdieping\, Prijstraat 68\, Tielen\, 2460\, Belgium
CATEGORIES:Kempen Diner
ATTACH;FMTTYPE=image/jpeg:https://kfcdekempen.be/wp-content/uploads/2024/08/ASV-Geel.jpg
END:VEVENT
BEGIN:VEVENT
DTSTART;TZID=UTC:20260221T170000
DTEND;TZID=UTC:20260221T233000
DTSTAMP:20260422T005907
CREATED:20250111T165305Z
LAST-MODIFIED:20251226T171420Z
UID:7370-1771693200-1771716600@kfcdekempen.be
SUMMARY:KFC De Kempen - St. Lenaarts
DESCRIPTION:KFC De Kempen – St. Lenaarts\nRESERVEREN\nKempen Menu\nVoorgerecht\nGevulde ravioli \nSoep\nWitloofsoep \nHoofdgerecht\nKalkoenfilet\nKabeljauwhaasje\nSeizoensgroenten\nKroketten | gratin \nDessert\nIjsdessert \nWedstrijdbal\n\nOnbekend \nInteresse om deze wedstrijdbal te schenken? Neem dan contact op met Steven Lemmens (steven.lemmens@securelogisticservices.be\n0470/55.09.19)
URL:https://kfcdekempen.be/event/kfc-de-kempen-st-lenaarts/
LOCATION:Business Seats\, Sportcentrum Tielenheide\, 2de verdieping\, Prijstraat 68\, Tielen\, 2460\, Belgium
CATEGORIES:Kempen Diner
ATTACH;FMTTYPE=image/jpeg:https://kfcdekempen.be/wp-content/uploads/2024/08/KFC-Sint-Lenaarts.jpg
END:VEVENT
BEGIN:VEVENT
DTSTART;TZID=UTC:20260307T160000
DTEND;TZID=UTC:20260307T235900
DTSTAMP:20260422T005907
CREATED:20260217T184156Z
LAST-MODIFIED:20260217T184814Z
UID:8168-1772899200-1772927940@kfcdekempen.be
SUMMARY:KFC De Kempen - Zepperen-Brustem - Wine & Dine
DESCRIPTION:KFC De Kempen – Zepperen-Brustem\n*Wine & Dine*\nReserveren\nKom genieten van 6 heerlijke gerechten vergezeld van 2 aangepaste wijnen per gerecht.\nInschrijvingen beperkt tot 100 deelnemers. \nKom mee genieten en maak kans op een prachtige prijs! \nPer verkochte fles gaat er €1 integraal naar de jeugdwerking van de club en er valt onder alle bestellingen een topprijs t.w.v. €40 te winnen (aangeboden door wijnen Jacobs).\nDe geproefde wijnen zullen ter plaatste ook besteld kunnen worden. \nWedstrijdbal\nONBEKEND \nInteresse om deze wedstrijdbal te schenken? Neem dan contact op met Steven Lemmens (steven.lemmens@securelogisticservices.be\n0470/55.09.19)
URL:https://kfcdekempen.be/event/kfc-de-kempen-zepperen-brustem-2/
LOCATION:Business Seats\, Sportcentrum Tielenheide\, 2de verdieping\, Prijstraat 68\, Tielen\, 2460\, Belgium
CATEGORIES:Kempen Diner
ATTACH;FMTTYPE=image/jpeg:https://kfcdekempen.be/wp-content/uploads/2026/02/Zepperen-Brustem-1.jpg
END:VEVENT
BEGIN:VEVENT
DTSTART;TZID=UTC:20260321T170000
DTEND;TZID=UTC:20260321T233000
DTSTAMP:20260422T005907
CREATED:20251226T171743Z
LAST-MODIFIED:20251226T172041Z
UID:8105-1774112400-1774135800@kfcdekempen.be
SUMMARY:KFC De Kempen - Lille United
DESCRIPTION:KFC De Kempen – Lille United\nReserveren\nKempen Menu\nVoorgerecht\nKipkroketje met slaatje \nSoep\nAspergesoep \nHoofdgerecht\nVarkenshaasje\nScampi\nSeizoensgroenten\nFrieten | gratin \nDessert\nCheesecake dessert \nWedstrijdbal\nONBEKEND \nInteresse om deze wedstrijdbal te schenken? Neem dan contact op met Steven Lemmens (steven.lemmens@securelogisticservices.be\n0470/55.09.19)
URL:https://kfcdekempen.be/event/kfc-de-kempen-lille-united/
LOCATION:Business Seats\, Sportcentrum Tielenheide\, 2de verdieping\, Prijstraat 68\, Tielen\, 2460\, Belgium
CATEGORIES:Kempen Diner
ATTACH;FMTTYPE=image/jpeg:https://kfcdekempen.be/wp-content/uploads/2024/08/Lille-United.jpg
END:VEVENT
BEGIN:VEVENT
DTSTART;TZID=UTC:20260411T180000
DTEND;TZID=UTC:20260411T213000
DTSTAMP:20260422T005907
CREATED:20260328T123616Z
LAST-MODIFIED:20260328T124638Z
UID:8222-1775930400-1775943000@kfcdekempen.be
SUMMARY:KFC De Kempen - Esperanza Pelt
DESCRIPTION:KFC De Kempen – Esperanza Pelt\nReserveren\nItaliaans Buffet\n\n2 soorten Pasta\n3 sauzen\nLasagne en vegie lasagne\nBrood\n\nWedstrijdbal\nONBEKEND \nInteresse om deze wedstrijdbal te schenken? Neem dan contact op met Steven Lemmens (steven.lemmens@securelogisticservices.be\n0470/55.09.19)
URL:https://kfcdekempen.be/event/kfc-de-kempen-esperanza-pelt/
LOCATION:Business Seats\, Sportcentrum Tielenheide\, 2de verdieping\, Prijstraat 68\, Tielen\, 2460\, Belgium
CATEGORIES:Kempen Diner
ATTACH;FMTTYPE=image/jpeg:https://kfcdekempen.be/wp-content/uploads/2026/03/Esperanza-Pelt.jpg
END:VEVENT
BEGIN:VEVENT
DTSTART;TZID=UTC:20260426T130000
DTEND;TZID=UTC:20260426T170000
DTSTAMP:20260422T005907
CREATED:20260328T124519Z
LAST-MODIFIED:20260328T124519Z
UID:8225-1777208400-1777222800@kfcdekempen.be
SUMMARY:KFC De Kempen - KCVV Elewijt
DESCRIPTION:KFC De Kempen – KCVV Elewijt\nReserveren\nBrunch\nKOUD \n\n\nvitello tonato \n\n\ncarpaccio \n\n\ngerookte vispallet \n\n\ngroentjes \n\n\nsauzen \n\n\nbrood \n\n\nWARM \n\nfrikadellen met kriekjes\npensen met appelmoes\nvogelnest met tomatensaus\npuree\nbrood\n\nWedstrijdbal\nONBEKEND \nInteresse om deze wedstrijdbal te schenken? Neem dan contact op met Steven Lemmens (steven.lemmens@securelogisticservices.be\n0470/55.09.19)
URL:https://kfcdekempen.be/event/kfc-de-kempen-kcvv-elewijt/
LOCATION:Business Seats\, Sportcentrum Tielenheide\, 2de verdieping\, Prijstraat 68\, Tielen\, 2460\, Belgium
CATEGORIES:Kempen Diner
ATTACH;FMTTYPE=image/jpeg:https://kfcdekempen.be/wp-content/uploads/2026/03/KCVV-Elewijt.jpg
END:VEVENT
END:VCALENDAR