BEGIN:VCALENDAR
VERSION:2.0
PRODID:-//KFC De Kempen - ECPv6.14.2//NONSGML v1.0//EN
CALSCALE:GREGORIAN
METHOD:PUBLISH
X-ORIGINAL-URL:https://kfcdekempen.be
X-WR-CALDESC:Events voor KFC De Kempen
REFRESH-INTERVAL;VALUE=DURATION:PT1H
X-Robots-Tag:noindex
X-PUBLISHED-TTL:PT1H
BEGIN:VTIMEZONE
TZID:UTC
BEGIN:STANDARD
TZOFFSETFROM:+0000
TZOFFSETTO:+0000
TZNAME:UTC
DTSTART:20240101T000000
END:STANDARD
END:VTIMEZONE
BEGIN:VEVENT
DTSTART;TZID=UTC:20241102T170000
DTEND;TZID=UTC:20241102T233000
DTSTAMP:20260421T210143
CREATED:20240908T091023Z
LAST-MODIFIED:20240908T091111Z
UID:6884-1730566800-1730590200@kfcdekempen.be
SUMMARY:KFC De Kempen - S.C. City Pirates Antwerpen
DESCRIPTION:KFC De Kempen – S.C. City Pirates Antwerpen\nReserveren\nKempen Menu\nVoorgerecht\nTrio van zalm \nSoep\nWortelcrèmesoep \nHoofdgerecht\nWildragout\nGamba’s à la plancha\nSeizoensgroenten\nKnolselderpuree | frieten \nDessert\nDuo van tiramisu \nWedstrijdbal \nOnbekend \nInteresse in om deze wedstrijdbal te schenken. Neem dan contact op met Steven Lemmens (steven.lemmens@securelogisticservices.be\n0470/55.09.19)
URL:https://kfcdekempen.be/event/kfc-de-kempen-s-c-city-pirates-antwerpen/
LOCATION:Business Seats\, Sportcentrum Tielenheide\, 2de verdieping\, Prijstraat 68\, Tielen\, 2460\, Belgium
CATEGORIES:Kempen Diner
ATTACH;FMTTYPE=image/jpeg:https://kfcdekempen.be/wp-content/uploads/2024/09/City-Pirates.jpg
END:VEVENT
BEGIN:VEVENT
DTSTART;TZID=UTC:20241130T170000
DTEND;TZID=UTC:20241130T233000
DTSTAMP:20260421T210143
CREATED:20240908T092322Z
LAST-MODIFIED:20241126T203033Z
UID:6891-1732986000-1733009400@kfcdekempen.be
SUMMARY:KFC De Kempen - Sportief Rotselaar
DESCRIPTION:KFC De Kempen – Sportief Rotselaar\nReserveren\nKempen Menu\nVoorgerecht\nRode biet carpacia met gerookte makreel \nSoep\nBospaddenstoelensoep \nHoofdgerecht\nKalkoenfilet met fruit en/of champignonsaus\nZeebaars op vel gebakken\nSeizoensgroenten\nKroketten | Krokinnes \nDessert\nCrème brûlée \nWedstrijdbal \nOnbekend \nInteresse in om deze wedstrijdbal te schenken. Neem dan contact op met Steven Lemmens (steven.lemmens@securelogisticservices.be\n0470/55.09.19)
URL:https://kfcdekempen.be/event/kfc-de-kempen-sportief-rotselaar/
LOCATION:Business Seats\, Sportcentrum Tielenheide\, 2de verdieping\, Prijstraat 68\, Tielen\, 2460\, Belgium
CATEGORIES:Kempen Diner
ATTACH;FMTTYPE=image/jpeg:https://kfcdekempen.be/wp-content/uploads/2024/09/Sportief-Rotselaar-.jpg
END:VEVENT
END:VCALENDAR