BEGIN:VCALENDAR
VERSION:2.0
PRODID:-//KFC De Kempen - ECPv6.14.2//NONSGML v1.0//EN
CALSCALE:GREGORIAN
METHOD:PUBLISH
X-WR-CALNAME:KFC De Kempen
X-ORIGINAL-URL:https://kfcdekempen.be
X-WR-CALDESC:Events voor KFC De Kempen
REFRESH-INTERVAL;VALUE=DURATION:PT1H
X-Robots-Tag:noindex
X-PUBLISHED-TTL:PT1H
BEGIN:VTIMEZONE
TZID:UTC
BEGIN:STANDARD
TZOFFSETFROM:+0000
TZOFFSETTO:+0000
TZNAME:UTC
DTSTART:20250101T000000
END:STANDARD
END:VTIMEZONE
BEGIN:VEVENT
DTSTART;TZID=UTC:20250118T170000
DTEND;TZID=UTC:20250118T233000
DTSTAMP:20260421T175527
CREATED:20241219T184718Z
LAST-MODIFIED:20250111T161219Z
UID:7285-1737219600-1737243000@kfcdekempen.be
SUMMARY:KFC De Kempen - Achel VV
DESCRIPTION:KFC De Kempen – Achel VV\nRESERVEREN\nKempen Menu\nVoorgerecht\nRavioli van kreeft \nSoep\nKreeftenbisque \nHoofdgerecht\nChateaubriand met peper en champignonsaus\nSchelvishaasje\nSeizoensgroenten\nKroketten | Butternutpuree \nDessert\nMascarpone dessert \nWedstrijdbal\n\nOnbekend \nInteresse in om deze wedstrijdbal te schenken. Neem dan contact op met Steven Lemmens (steven.lemmens@securelogisticservices.be\n0470/55.09.19)
URL:https://kfcdekempen.be/event/kfc-de-kempen-achel-vv/
LOCATION:Business Seats\, Sportcentrum Tielenheide\, 2de verdieping\, Prijstraat 68\, Tielen\, 2460\, Belgium
CATEGORIES:Kempen Diner
ATTACH;FMTTYPE=image/jpeg:https://kfcdekempen.be/wp-content/uploads/2024/12/K-Achel-VV.jpg
END:VEVENT
END:VCALENDAR