BEGIN:VCALENDAR
VERSION:2.0
PRODID:-//KFC De Kempen - ECPv6.14.2//NONSGML v1.0//EN
CALSCALE:GREGORIAN
METHOD:PUBLISH
X-ORIGINAL-URL:https://kfcdekempen.be
X-WR-CALDESC:Events voor KFC De Kempen
REFRESH-INTERVAL;VALUE=DURATION:PT1H
X-Robots-Tag:noindex
X-PUBLISHED-TTL:PT1H
BEGIN:VTIMEZONE
TZID:UTC
BEGIN:STANDARD
TZOFFSETFROM:+0000
TZOFFSETTO:+0000
TZNAME:UTC
DTSTART:20250101T000000
END:STANDARD
END:VTIMEZONE
BEGIN:VEVENT
DTSTART;TZID=UTC:20250201T170000
DTEND;TZID=UTC:20250201T233000
DTSTAMP:20260421T180019
CREATED:20250111T161030Z
LAST-MODIFIED:20250111T161030Z
UID:7355-1738429200-1738452600@kfcdekempen.be
SUMMARY:KFC De Kempen - Zepperen-Brustem
DESCRIPTION:KFC De Kempen – Zepperen-Brustem\nRESERVEREN\nKempen Menu\nVoorgerecht\nDuo van kaas- en garnaalkroket \nSoep\nWitloofroomsoepje \nHoofdgerecht\nHam van het spit\nLangoustines\nSeizoensgroenten\nFrieten | Knolselderpuree \nDessert\nOreo verrassing \nWedstrijdbal\n\nOnbekend \nInteresse om deze wedstrijdbal te schenken? Neem dan contact op met Steven Lemmens (steven.lemmens@securelogisticservices.be\n0470/55.09.19)
URL:https://kfcdekempen.be/event/kfc-de-kempen-zepperen-brustem/
LOCATION:Business Seats\, Sportcentrum Tielenheide\, 2de verdieping\, Prijstraat 68\, Tielen\, 2460\, Belgium
CATEGORIES:Kempen Diner
ATTACH;FMTTYPE=image/jpeg:https://kfcdekempen.be/wp-content/uploads/2025/01/Zepperen-Brustem.jpg
END:VEVENT
END:VCALENDAR